BEGIN:VCALENDAR
VERSION:2.0
PRODID:-//Sinnenfeuer - ECPv6.15.20//NONSGML v1.0//EN
CALSCALE:GREGORIAN
METHOD:PUBLISH
X-ORIGINAL-URL:https://sinnenfeuer.de
X-WR-CALDESC:Veranstaltungen für Sinnenfeuer
REFRESH-INTERVAL;VALUE=DURATION:PT1H
X-Robots-Tag:noindex
X-PUBLISHED-TTL:PT1H
BEGIN:VTIMEZONE
TZID:Europe/Berlin
BEGIN:DAYLIGHT
TZOFFSETFROM:+0100
TZOFFSETTO:+0200
TZNAME:CEST
DTSTART:20240331T010000
END:DAYLIGHT
BEGIN:STANDARD
TZOFFSETFROM:+0200
TZOFFSETTO:+0100
TZNAME:CET
DTSTART:20241027T010000
END:STANDARD
BEGIN:DAYLIGHT
TZOFFSETFROM:+0100
TZOFFSETTO:+0200
TZNAME:CEST
DTSTART:20250330T010000
END:DAYLIGHT
BEGIN:STANDARD
TZOFFSETFROM:+0200
TZOFFSETTO:+0100
TZNAME:CET
DTSTART:20251026T010000
END:STANDARD
BEGIN:DAYLIGHT
TZOFFSETFROM:+0100
TZOFFSETTO:+0200
TZNAME:CEST
DTSTART:20260329T010000
END:DAYLIGHT
BEGIN:STANDARD
TZOFFSETFROM:+0200
TZOFFSETTO:+0100
TZNAME:CET
DTSTART:20261025T010000
END:STANDARD
BEGIN:DAYLIGHT
TZOFFSETFROM:+0100
TZOFFSETTO:+0200
TZNAME:CEST
DTSTART:20270328T010000
END:DAYLIGHT
BEGIN:STANDARD
TZOFFSETFROM:+0200
TZOFFSETTO:+0100
TZNAME:CET
DTSTART:20271031T010000
END:STANDARD
END:VTIMEZONE
BEGIN:VEVENT
DTSTART;TZID=Europe/Berlin:20251230T180000
DTEND;TZID=Europe/Berlin:20260102T140000
DTSTAMP:20260423T030829
CREATED:20230809T214546Z
LAST-MODIFIED:20250904T123323Z
UID:6527-1767117600-1767362400@sinnenfeuer.de
SUMMARY:Silvester & Neujahr in sinnenfeuriger Gemeinschaft
DESCRIPTION:Ein Jahreswechsel ist immer etwas besonderes und ich freue mich auf einen Kreis lieber Menschen\, die im Freundeskreis von Sinnenfeuer mit mir gemeinsam Rituale feiern\, Tanzen\, Kuscheln\, Massagen austauschen\, Singen und Musizieren und zusammen GENIESSEN wollen! \nIm inneren Raum der Stille können wir das Jahr 2025 noch einmal geistig bereisen\, für die Erfahrungen und Meisterung wertschätzen. \nIn der Silvesternacht können wir uns in ungewöhnlichen bis ekzentrischen Gewändern im Raum des Tanzes und der Begegnung in kleinen Darstellungen unser Selbst zum Ausdruck bringen und feiern. \nMit unserem Blick über die sanften Hügel schweifend\, können wir die fernen Feuerwerke sehen. Wir selbst zünden Kerzen und legen Lichterspiralen in eventuell verschneiter oder raureifer Wiese. Es ist Zauberhaft und Idyllisch\, wenn die Eiskristalle an den Büschen und Grashalmen im Feuerschein funkeln. Mal sehen welche Wetterlage uns dieses Jahr beschert wird. \nDanach tanzen oder kuscheln wir nach Herzenslust und genießen das tolle Buffet beim knisternden Ofen im gemütlichen Stüberl. Beim Neujahrsritual kleiden wir uns weiß und festlich. Nach einer Visionsreise in das Jahr 2026 begleitet von Trommeln bestärken und manifestieren wir das Empfangene und bringen unsere Präsenz wieder ganz ins hier und jetzt\, widmen uns wieder dem genussvollen Dasein\, tanken Energie und Lebensfreude. Einen wunderbarer Start ins neue Jahr findet sich. \n\n\nEnergieausgleich: 320 € | erm. 280 € | U & VP 269 € + Kurtaxe \nIch freue mich sehr\, diese besondere Zeit auf die Gruppe. Es ist immer wieder schön zu sehen\, wie wahre Freundschaften dabei entstehen. \nHerzensgrüße\nSaba \n\n\n\n\n Hier gehts zur Anmeldung \n\n\n 
URL:https://sinnenfeuer.de/event/silvester-neujahr-sinnlich-feiern-280-e-u-vp-282-e/
LOCATION:Hof der Sinne  Oberösterreich\, Bruck 29\, Senftenbach\, Innviertel\, 4973\, Österreich
CATEGORIES:Achtsames Berühren,Schamanische Heilarbeit,Tantra
ATTACH;FMTTYPE=image/jpeg:https://sinnenfeuer.de/wp-content/uploads/2023/08/Silvester-HDS-scaled-e1691617524488.jpg
ORGANIZER;CN="Sinnenfeuer":MAILTO:mail@sinnenfeuer.de
END:VEVENT
END:VCALENDAR