BEGIN:VCALENDAR
VERSION:2.0
PRODID:-//Sinnenfeuer - ECPv6.15.20//NONSGML v1.0//EN
CALSCALE:GREGORIAN
METHOD:PUBLISH
X-WR-CALNAME:Sinnenfeuer
X-ORIGINAL-URL:https://sinnenfeuer.de
X-WR-CALDESC:Veranstaltungen für Sinnenfeuer
REFRESH-INTERVAL;VALUE=DURATION:PT1H
X-Robots-Tag:noindex
X-PUBLISHED-TTL:PT1H
BEGIN:VTIMEZONE
TZID:Europe/Berlin
BEGIN:DAYLIGHT
TZOFFSETFROM:+0100
TZOFFSETTO:+0200
TZNAME:CEST
DTSTART:20250330T010000
END:DAYLIGHT
BEGIN:STANDARD
TZOFFSETFROM:+0200
TZOFFSETTO:+0100
TZNAME:CET
DTSTART:20251026T010000
END:STANDARD
BEGIN:DAYLIGHT
TZOFFSETFROM:+0100
TZOFFSETTO:+0200
TZNAME:CEST
DTSTART:20260329T010000
END:DAYLIGHT
BEGIN:STANDARD
TZOFFSETFROM:+0200
TZOFFSETTO:+0100
TZNAME:CET
DTSTART:20261025T010000
END:STANDARD
BEGIN:DAYLIGHT
TZOFFSETFROM:+0100
TZOFFSETTO:+0200
TZNAME:CEST
DTSTART:20270328T010000
END:DAYLIGHT
BEGIN:STANDARD
TZOFFSETFROM:+0200
TZOFFSETTO:+0100
TZNAME:CET
DTSTART:20271031T010000
END:STANDARD
END:VTIMEZONE
BEGIN:VEVENT
DTSTART;TZID=Europe/Berlin:20260521T180000
DTEND;TZID=Europe/Berlin:20260525T150000
DTSTAMP:20260422T211731
CREATED:20241104T212130Z
LAST-MODIFIED:20250904T123658Z
UID:7555-1779386400-1779721200@sinnenfeuer.de
SUMMARY:Kashmirische Massage & erwachte Liebe | mit Saba & Jochen
DESCRIPTION:In der Kashmirischen Massage erlebst Du die Magie des Spürens und der Hingabe. Du erlebst dich im Fluss der Begegnung verfeinert und Deine Sensibilität öffnet Dir das Tor\, Spiritualität mit Körperlichkeit zu verbinden. Wir sind ja weit mehr als Hände\, Beine\, Becken\, Po und so ;-)) \nWie Du siehst\, ist auch Humor\, neben allen Endorphinen und Serotonin Ausschüttungen erlaubt und ein wunderbar sanfter Glücksbringer. Darum geht es. Wir wollen uns Glück bringen. Berührungen die schön sind\, wo wir uns geliebt und geborgen fühlen. Sie machen glücklich und wirken noch lange nach. \nDer Hof der Sinne\, ein Seminarzentrum\, liebevoll geführt von Bettina & Team\, deren Kreativität sich in jedem Detail ausdrückt. Sehr feine Mahlzeiten betören unsere Sinne. Du bist hier mit Sinnenfeuer vom ersten Moment an in einer Welt\, die Schönheit\, Kommunikation und Geborgenheit ausstrahlt. \nWenn du das Glück hast\, die Kashmirische Massage mit mir zu erleben und zu vertiefen\, bekommst du eine wunderbare Hinführung in die Praktiken alter tantrischer Massagetechniken. Gepaart wird ES mit dem Wissen aus vielen Jahren Selbsterfahrung. Hier möchte ich gemeinsam mit meinem Team\, Jochen und Yasmin\, die hohe Kunst der Begegnung persönlich\, im Tandava und in der kashmirischen Massage  vermitteln. \nWir sensibilisieren uns durch bewusste Wahrnehmung unserer Energie durch Tandava und Langsamkeit. Tandava ist eine herzöffnende Bewegungsform ähnlich Qigong\, jedoch ohne eine vorgeschriebene Bewegungsart. Durch feinsinnige Bewegungen öffnen sich die feinen Sensoren und Tore in Dir Selbst. Unsere Körperlichkeit wird Teil unserer Spiritualität. Dieses fördert die Kommunikation\, die Nonverbal in der Kashmirischen Massage mitschwingt. Es kann das Gefühl der Göttlichkeit in Dir beginnen zu leuchten. \nIn einem wunderschönen Seminarraum mit Holzofenwärme werden wir im Tandava und in kashmirischer Massage Shiva und Shakti entdecken und begegnen. \nDer größte Genuss ist natürlich\, wenn Du im Schneidersitz sitzen kannst\, weil Du als Gebender in dieser Position sitzt. Aber auch hier lassen sich Schwierigkeiten umschiffen. Das zeige ich dir dann. \nDu brauchst keine besonderen Vorkenntnisse in Massagetechniken. Es wäre allerdings sehr schön\, wenn du Einfühlungsvermögen und ein natürliches Körpergefühl mitbringst. Wenn Du sowieso ein paar Kilo zu viel mit Dir trägst\, dann beginne doch jetzt schon damit\, Dir das Leben ein wenig zu erleichtern. Ein Teilnehmer hat es gemacht und war ganz glücklich über seinen Erfolg. \nIn der kashmirischen Massage gibt es kein Ziel\, kein Dogma. Es kann sich zu einem Tanz der Sinne entwickeln und Dich mit lichtdurchströmter Energie beschenken und manchmal wird auch dein Feuer entfacht. Sie ist berührend\, achtsam und haltend. Sie schenkt Geborgenheit und Vertrauen. \nAusnahmslos nimmst du sehr viel für Dein Leben mit. Mehr strahlendes Selbstvertrauen und somit eine neue Form des Respekts Dir selbst gegenüber. Also\, los gehts! \nKursgebühr 450 € oder nach Selbsteinschätzung + Unterkunft und Verpflegung 304 € + Kurtaxe 9 € \nWir freuen uns auf Dich!\nSaba & Jochen \n Hier gehts zur Anmeldung \n  \n 
URL:https://sinnenfeuer.de/event/kashmirische-massage-erwachte-liebe-450-e-uvp-216-e/
LOCATION:Hof der Sinne  Oberösterreich\, Bruck 29\, Senftenbach\, Innviertel\, 4973\, Österreich
CATEGORIES:Kashmirische,Massageaustausch,Tantra,Tanzen
ATTACH;FMTTYPE=image/png:https://sinnenfeuer.de/wp-content/uploads/2022/12/Kash-hds.png
ORGANIZER;CN="Sinnenfeuer":MAILTO:mail@sinnenfeuer.de
END:VEVENT
END:VCALENDAR