BEGIN:VCALENDAR
VERSION:2.0
PRODID:-//Sinnenfeuer - ECPv6.15.20//NONSGML v1.0//EN
CALSCALE:GREGORIAN
METHOD:PUBLISH
X-WR-CALNAME:Sinnenfeuer
X-ORIGINAL-URL:https://sinnenfeuer.de
X-WR-CALDESC:Veranstaltungen für Sinnenfeuer
REFRESH-INTERVAL;VALUE=DURATION:PT1H
X-Robots-Tag:noindex
X-PUBLISHED-TTL:PT1H
BEGIN:VTIMEZONE
TZID:Europe/Berlin
BEGIN:DAYLIGHT
TZOFFSETFROM:+0100
TZOFFSETTO:+0200
TZNAME:CEST
DTSTART:20240331T010000
END:DAYLIGHT
BEGIN:STANDARD
TZOFFSETFROM:+0200
TZOFFSETTO:+0100
TZNAME:CET
DTSTART:20241027T010000
END:STANDARD
BEGIN:DAYLIGHT
TZOFFSETFROM:+0100
TZOFFSETTO:+0200
TZNAME:CEST
DTSTART:20250330T010000
END:DAYLIGHT
BEGIN:STANDARD
TZOFFSETFROM:+0200
TZOFFSETTO:+0100
TZNAME:CET
DTSTART:20251026T010000
END:STANDARD
BEGIN:DAYLIGHT
TZOFFSETFROM:+0100
TZOFFSETTO:+0200
TZNAME:CEST
DTSTART:20260329T010000
END:DAYLIGHT
BEGIN:STANDARD
TZOFFSETFROM:+0200
TZOFFSETTO:+0100
TZNAME:CET
DTSTART:20261025T010000
END:STANDARD
BEGIN:DAYLIGHT
TZOFFSETFROM:+0100
TZOFFSETTO:+0200
TZNAME:CEST
DTSTART:20270328T010000
END:DAYLIGHT
BEGIN:STANDARD
TZOFFSETFROM:+0200
TZOFFSETTO:+0100
TZNAME:CET
DTSTART:20271031T010000
END:STANDARD
END:VTIMEZONE
BEGIN:VEVENT
DTSTART;TZID=Europe/Berlin:20251230T180000
DTEND;TZID=Europe/Berlin:20260102T140000
DTSTAMP:20260423T003941
CREATED:20230809T214546Z
LAST-MODIFIED:20250904T123323Z
UID:6527-1767117600-1767362400@sinnenfeuer.de
SUMMARY:Silvester & Neujahr in sinnenfeuriger Gemeinschaft
DESCRIPTION:Ein Jahreswechsel ist immer etwas besonderes und ich freue mich auf einen Kreis lieber Menschen\, die im Freundeskreis von Sinnenfeuer mit mir gemeinsam Rituale feiern\, Tanzen\, Kuscheln\, Massagen austauschen\, Singen und Musizieren und zusammen GENIESSEN wollen! \nIm inneren Raum der Stille können wir das Jahr 2025 noch einmal geistig bereisen\, für die Erfahrungen und Meisterung wertschätzen. \nIn der Silvesternacht können wir uns in ungewöhnlichen bis ekzentrischen Gewändern im Raum des Tanzes und der Begegnung in kleinen Darstellungen unser Selbst zum Ausdruck bringen und feiern. \nMit unserem Blick über die sanften Hügel schweifend\, können wir die fernen Feuerwerke sehen. Wir selbst zünden Kerzen und legen Lichterspiralen in eventuell verschneiter oder raureifer Wiese. Es ist Zauberhaft und Idyllisch\, wenn die Eiskristalle an den Büschen und Grashalmen im Feuerschein funkeln. Mal sehen welche Wetterlage uns dieses Jahr beschert wird. \nDanach tanzen oder kuscheln wir nach Herzenslust und genießen das tolle Buffet beim knisternden Ofen im gemütlichen Stüberl. Beim Neujahrsritual kleiden wir uns weiß und festlich. Nach einer Visionsreise in das Jahr 2026 begleitet von Trommeln bestärken und manifestieren wir das Empfangene und bringen unsere Präsenz wieder ganz ins hier und jetzt\, widmen uns wieder dem genussvollen Dasein\, tanken Energie und Lebensfreude. Einen wunderbarer Start ins neue Jahr findet sich. \n\n\nEnergieausgleich: 320 € | erm. 280 € | U & VP 269 € + Kurtaxe \nIch freue mich sehr\, diese besondere Zeit auf die Gruppe. Es ist immer wieder schön zu sehen\, wie wahre Freundschaften dabei entstehen. \nHerzensgrüße\nSaba \n\n\n\n\n Hier gehts zur Anmeldung \n\n\n 
URL:https://sinnenfeuer.de/event/silvester-neujahr-sinnlich-feiern-280-e-u-vp-282-e/
LOCATION:Hof der Sinne  Oberösterreich\, Bruck 29\, Senftenbach\, Innviertel\, 4973\, Österreich
CATEGORIES:Achtsames Berühren,Schamanische Heilarbeit,Tantra
ATTACH;FMTTYPE=image/jpeg:https://sinnenfeuer.de/wp-content/uploads/2023/08/Silvester-HDS-scaled-e1691617524488.jpg
ORGANIZER;CN="Sinnenfeuer":MAILTO:mail@sinnenfeuer.de
END:VEVENT
BEGIN:VEVENT
DTSTART;TZID=Europe/Berlin:20260119T190000
DTEND;TZID=Europe/Berlin:20260119T190000
DTSTAMP:20260423T003941
CREATED:20250307T233103Z
LAST-MODIFIED:20260109T195551Z
UID:7639-1768849200-1768849200@sinnenfeuer.de
SUMMARY:Gruppenabend - Massageaustausch für geübte | Fr. 19h -23:30h
DESCRIPTION:Lebe Deine Sinnlichkeit in einem gehaltenen und liebevoll gestalteten Rahmen.\nWir starten im Kreis mit Begrüßungsrunde und Tanz. Im tantrischem Rad kannst Du die erspüren\, mit wem Du gerne die in einen Massageaustausch gehen möchtest. Der Raum wird von mir in spielerischer Leichtigkeit geführt Du erlebst die herzoffene Sinnenfeuer Atmosphäre in Gemeinschaft lieber Menschen\, die sich erfahren und respektvoll zugewandt in einen Space achtsamer und genussreicher Massage begeben. Hier erlebst Du Hingabe in einem Nest liebevoller Geborgenheit. \nDu gestaltest Deine Grenzen und tiefe\, berührende Begegnungen\, die gleichermaßen lustvoll wie spirituell\, achtsam und heilsam sein können. Ich achte auf Ausgewogenheit von Shiva und Shakti und auf eine stimmige Konstellation des Abends. Du kannst Dich anmelden\, die Bestätigung für die Teilnahme kommt ein paar Tage vor der Veranstaltung. \nDies ist ein Übungsfeld\, um Dich selber noch besser kennen und ausdrücken zu lernen. Dein Selbstvertrauen wird sich stärken. Es sind schon viele Freundschaften und Partnerschaften  in meinem Feld entstanden. \nIch achte auf einen guten Space und mit schöner Musik\, warmen Öl und heißen Tüchern wird jeder Abend ein genuss. Du kannst Dich zu jeder Zeit an mich wenden. Ich hüte den Raum! \nDie Tore des Tempels öffnen sich um 18:40 h\nDein Beitrag 50 € ooder nach Selbsteinschätzung \nIch freue mich auf Dich\nHerzliche Grüße Saba \nHier gehts zur Anmeldung
URL:https://sinnenfeuer.de/event/gruppenabend-massageaustausch-fuer-geuebte-fr-19h-2330h-2/
LOCATION:Tempelraum Milbertshofen\, Bischof-Adalbert-Str. 23a\, Souterrain\, München\, Bayern\, 80809\, Deutschland
CATEGORIES:Gruppenabend,Massageaustausch,Tantra,Tantraabend
ATTACH;FMTTYPE=image/png:https://sinnenfeuer.de/wp-content/uploads/2022/12/Grup-Kal.png
ORGANIZER;CN="Sinnenfeuer":MAILTO:mail@sinnenfeuer.de
END:VEVENT
BEGIN:VEVENT
DTSTART;TZID=Europe/Berlin:20260120T190000
DTEND;TZID=Europe/Berlin:20260120T220000
DTSTAMP:20260423T003941
CREATED:20221222T151547Z
LAST-MODIFIED:20260116T150853Z
UID:4201-1768935600-1768946400@sinnenfeuer.de
SUMMARY:Schamanischer Heilkreis | Di. 19 - 22 h
DESCRIPTION:Thema: Schöpferkraft \nHier kannst Du Themen ins Feld der Heilung führen und eine gute Ausrichtung für Deine Beziehungen oder Deine Zukunft bekommen. Deinen Blick auf gewisse Dinge erneuern\, alte Belastungen ablösen und Neues ins Leben rufen. Du bekommst in jedem Fall die komplette Unterstützung von Kreis. \nWenn Du nicht in die Kraft kommst\, kann es auch sein\, dass Dir im Laufe Deines Lebens Seelenanteile verloren gegangen sind. Unzählige male habe ich erlebt\, wie das Leben sich auf positve Weise ändert und die Leuchtkraft des Seins wieder Einzug nimmt\, wenn Du wieder 100% Du und in Deiner Kraft bist. Du wirst staunen\, wieviel mehr an Energie zur Verfügung steht. \nEs ist wirklich schön\, wie alle nach so einem Abend beseelt und genährt nach Hause gehen\, heiter sind und sich erlöst bis gelöst fühlen. \nDein Beitrag 35 € oder nach Einschätzung Deiner Möglichkeiten. Wenn Du eine Aufstellungsgarantie möchtest\, dann sprich mit mir. \nIch freue mich auf Dich\nSaba \nhttps://sinnenfeuer.de/anmeldung/ \n 
URL:https://sinnenfeuer.de/event/schamanischer-heilkreis-2/
LOCATION:Tempelraum Milbertshofen\, Bischof-Adalbert-Str. 23a\, Souterrain\, München\, Bayern\, 80809\, Deutschland
CATEGORIES:Aufstellungen,Schamanische Heilarbeit
ATTACH;FMTTYPE=image/jpeg:https://sinnenfeuer.de/wp-content/uploads/2022/12/IMG_7936.jpg
ORGANIZER;CN="Sinnenfeuer":MAILTO:mail@sinnenfeuer.de
END:VEVENT
END:VCALENDAR