BEGIN:VCALENDAR
VERSION:2.0
PRODID:-//Sinnenfeuer - ECPv6.15.20//NONSGML v1.0//EN
CALSCALE:GREGORIAN
METHOD:PUBLISH
X-ORIGINAL-URL:https://sinnenfeuer.de
X-WR-CALDESC:Veranstaltungen für Sinnenfeuer
REFRESH-INTERVAL;VALUE=DURATION:PT1H
X-Robots-Tag:noindex
X-PUBLISHED-TTL:PT1H
BEGIN:VTIMEZONE
TZID:Europe/Berlin
BEGIN:DAYLIGHT
TZOFFSETFROM:+0100
TZOFFSETTO:+0200
TZNAME:CEST
DTSTART:20230326T010000
END:DAYLIGHT
BEGIN:STANDARD
TZOFFSETFROM:+0200
TZOFFSETTO:+0100
TZNAME:CET
DTSTART:20231029T010000
END:STANDARD
BEGIN:DAYLIGHT
TZOFFSETFROM:+0100
TZOFFSETTO:+0200
TZNAME:CEST
DTSTART:20240331T010000
END:DAYLIGHT
BEGIN:STANDARD
TZOFFSETFROM:+0200
TZOFFSETTO:+0100
TZNAME:CET
DTSTART:20241027T010000
END:STANDARD
BEGIN:DAYLIGHT
TZOFFSETFROM:+0100
TZOFFSETTO:+0200
TZNAME:CEST
DTSTART:20250330T010000
END:DAYLIGHT
BEGIN:STANDARD
TZOFFSETFROM:+0200
TZOFFSETTO:+0100
TZNAME:CET
DTSTART:20251026T010000
END:STANDARD
END:VTIMEZONE
BEGIN:VEVENT
DTSTART;TZID=Europe/Berlin:20240921T150000
DTEND;TZID=Europe/Berlin:20240921T210000
DTSTAMP:20260426T051750
CREATED:20230106T000325Z
LAST-MODIFIED:20240910T100936Z
UID:5698-1726930800-1726952400@sinnenfeuer.de
SUMMARY:FrauenReich | 50 €
DESCRIPTION:Thema: Liebe und Sexualität\n\nEin Tag für uns Frauen\, ein Tag für die Liebe zu sich selbst. Bringe etwas feines selbstgemachtes zu Essen mit\, einen hübschen Lunghi und eines Deiner Lieblingsdüfte\, ein Handtuch als Unterlage und ein Schmuckstück\, welches Du nicht mehr brauchst und einer anderen Shakti gefallen könnte. \nWir meditieren\, tanzen\, fühlen unseren Kreis und sprechen mit Timer. Anschließend gibt es ein  gemeinsames Erntedank Essen und nach einer Verdauungskuschelei nähren uns noch mit einem Massage Austausch.  Ich habe totale Lust darauf und freue mich wenn Du Zeit hast und dabei sein kannst. \nHier gehts zur Anmeldung
URL:https://sinnenfeuer.de/event/frauenreich-30-e/
LOCATION:Saba´s Homespeace\, Schopenhauerstr. 52\, München\, Bayern\, 80807\, Deutschland
CATEGORIES:Achtsames Berühren,Frauenabend,Gesprächskreis
ATTACH;FMTTYPE=image/png:https://sinnenfeuer.de/wp-content/uploads/2022/12/Screenshot-2022-12-22-214402-1.png
ORGANIZER;CN="Sinnenfeuer":MAILTO:mail@sinnenfeuer.de
END:VEVENT
END:VCALENDAR