BEGIN:VCALENDAR
VERSION:2.0
PRODID:-//Sinnenfeuer - ECPv6.15.20//NONSGML v1.0//EN
CALSCALE:GREGORIAN
METHOD:PUBLISH
X-WR-CALNAME:Sinnenfeuer
X-ORIGINAL-URL:https://sinnenfeuer.de
X-WR-CALDESC:Veranstaltungen für Sinnenfeuer
REFRESH-INTERVAL;VALUE=DURATION:PT1H
X-Robots-Tag:noindex
X-PUBLISHED-TTL:PT1H
BEGIN:VTIMEZONE
TZID:Europe/Berlin
BEGIN:DAYLIGHT
TZOFFSETFROM:+0100
TZOFFSETTO:+0200
TZNAME:CEST
DTSTART:20250330T010000
END:DAYLIGHT
BEGIN:STANDARD
TZOFFSETFROM:+0200
TZOFFSETTO:+0100
TZNAME:CET
DTSTART:20251026T010000
END:STANDARD
BEGIN:DAYLIGHT
TZOFFSETFROM:+0100
TZOFFSETTO:+0200
TZNAME:CEST
DTSTART:20260329T010000
END:DAYLIGHT
BEGIN:STANDARD
TZOFFSETFROM:+0200
TZOFFSETTO:+0100
TZNAME:CET
DTSTART:20261025T010000
END:STANDARD
BEGIN:DAYLIGHT
TZOFFSETFROM:+0100
TZOFFSETTO:+0200
TZNAME:CEST
DTSTART:20270328T010000
END:DAYLIGHT
BEGIN:STANDARD
TZOFFSETFROM:+0200
TZOFFSETTO:+0100
TZNAME:CET
DTSTART:20271031T010000
END:STANDARD
END:VTIMEZONE
BEGIN:VEVENT
DTSTART;TZID=Europe/Berlin:20260203T190000
DTEND;TZID=Europe/Berlin:20260203T220000
DTSTAMP:20260423T115605
CREATED:20221210T104641Z
LAST-MODIFIED:20260116T145009Z
UID:3105-1770145200-1770156000@sinnenfeuer.de
SUMMARY:Singen & Healing Hands  | 35€
DESCRIPTION:Veronika Lindner wird mit uns zusammen und Ihrer Gitarre ihre schönsten Lieder gemeinsam mit uns singen. Auch Jochen unterstützt mit seiner „Moni“ unseren Gesang. Wer sie erlebt hat weiß\, wie beseelt sie musiziert. Rund um eine schöne Mitte singen wir gemeinsam Mantren und schöne Lieder. \nVeronikas Harfe begleitet uns auf eine verzaubernde und ruhige Weise in kleinen Gruppen beim Auflegen unserer Hände. Wir erleben die Heilkraft von Berührung. Wenn Du es magst\, kannst Du Dich von sanften Händen halten und berühren lassen. Das ist ein wunderschönes Ritual\, wo jeder mal empfangen und auch geben kann. Von sanften Händen gehalten zu werden wirkt wie Seelenbalsam.  Am Besten ziehst Du Dir etwas bequemes\, naturfaseriges und auch schönes an. So erreicht Dich der Zauber ganz. \nIn Liebe und Klang unterstreichen wir die feierliche Zeremonie mit Chai\, Obst und Quiche in netter Plauderstimmung. \nWenn Du dabei sein möchtest sicher Dir jetzt einen Platz. Der Abend beginnt um 19 h\, die Tore des Tempels öffnen sich um 18:30 h \nEs ist auch mein Geburtstag und ich feier gerne mit Euch zusammen diesen Tag. Dankbar für alles was ich mit Dir und Allen teilen kann. Ich würde mich freuen\, wenn Du diesen Abend statt ein Geschenk mit einem finanziellen Beitrag unterstützen kannst. Angedacht haben wir einen Beitrag von 35 € o.ä. für Musik\, Raum und Orga und vielleicht hast Du ja etwas kulinarisches beizusteuern. \nIn großer Vorfreude auf diesen besonderen Abend grüßen Dich\nSaba\, Veronika und Jochen \nHier gehts zur Anmeldung
URL:https://sinnenfeuer.de/event/move-rise/
LOCATION:Tempelraum Milbertshofen\, Bischof-Adalbert-Str. 23a\, Souterrain\, München\, Bayern\, 80809\, Deutschland
CATEGORIES:Move and Rise​,Rituale,Singen,Tanzen
ATTACH;FMTTYPE=image/jpeg:https://sinnenfeuer.de/wp-content/uploads/2022/12/IMG_5164-scaled.jpeg
ORGANIZER;CN="Sinnenfeuer":MAILTO:mail@sinnenfeuer.de
END:VEVENT
END:VCALENDAR