BEGIN:VCALENDAR
VERSION:2.0
PRODID:-//Sinnenfeuer - ECPv6.15.20//NONSGML v1.0//EN
CALSCALE:GREGORIAN
METHOD:PUBLISH
X-WR-CALNAME:Sinnenfeuer
X-ORIGINAL-URL:https://sinnenfeuer.de
X-WR-CALDESC:Veranstaltungen für Sinnenfeuer
REFRESH-INTERVAL;VALUE=DURATION:PT1H
X-Robots-Tag:noindex
X-PUBLISHED-TTL:PT1H
BEGIN:VTIMEZONE
TZID:Europe/Berlin
BEGIN:DAYLIGHT
TZOFFSETFROM:+0100
TZOFFSETTO:+0200
TZNAME:CEST
DTSTART:20240331T010000
END:DAYLIGHT
BEGIN:STANDARD
TZOFFSETFROM:+0200
TZOFFSETTO:+0100
TZNAME:CET
DTSTART:20241027T010000
END:STANDARD
BEGIN:DAYLIGHT
TZOFFSETFROM:+0100
TZOFFSETTO:+0200
TZNAME:CEST
DTSTART:20250330T010000
END:DAYLIGHT
BEGIN:STANDARD
TZOFFSETFROM:+0200
TZOFFSETTO:+0100
TZNAME:CET
DTSTART:20251026T010000
END:STANDARD
BEGIN:DAYLIGHT
TZOFFSETFROM:+0100
TZOFFSETTO:+0200
TZNAME:CEST
DTSTART:20260329T010000
END:DAYLIGHT
BEGIN:STANDARD
TZOFFSETFROM:+0200
TZOFFSETTO:+0100
TZNAME:CET
DTSTART:20261025T010000
END:STANDARD
END:VTIMEZONE
BEGIN:VEVENT
DTSTART;TZID=Europe/Berlin:20251005T110000
DTEND;TZID=Europe/Berlin:20251005T130000
DTSTAMP:20260425T162313
CREATED:20231129T214746Z
LAST-MODIFIED:20250904T123838Z
UID:6692-1759662000-1759669200@sinnenfeuer.de
SUMMARY:Matinee mit Saba & Rainer im Freitänzer
DESCRIPTION:Wir möchten Dich zu einem besonderen Vormittag mit Tanzen bei beschwingter und auch klassischer Musik einladen\, feinfühlige Begegnungen zu erleben. Wir und vielleicht auch Du bereichern den Geist in kuscheliger Runde mit kleinen Textbeiträgen zum Thema „Liebens- und Lebenswert“ mit der Möglichkeit hinterher noch irgendwo einzukehren oder einen Spaziergang in netter Gesellschaft zu machen. Unser Juni Matinee ist sehr gut angekommen mit der dringenden Bitte es weiter Leben zu lassen. Wir sind an jedem 1. Sonntag im Monat dabei. Hast Du auch Lust darauf? Wir freuen uns.\n\nUnser Eintrittskonzept für 1. So im Monat 05.10.|02.11.|07.12.: 20 € oder bringe für uns neue Freunde mit und jeder zahlt die Hälfte\, also 10 € Ermäßigt 15€. Einlass ist 10:40h\, wir starten um 11h im Kreis und beschließen um 13h. \nWenn Du gerne sinnlich und inspiriert tanzt\, Nähe mit spiritueller Tiefe in den Begegnungen erleben möchtest\, wie herzlich und spielerisch unsere Sinnenfeuer-Atmosphäre sein kann\, dann ist diese Matinee genau das Richtige für Dich. Come\, Move and Feel. \nWir freuen uns auf Dich\nSaba und Rainer \nbald geht es auch für dieses Event zur Anmeldung \nHier gehts zur Anmeldung
URL:https://sinnenfeuer.de/event/move-feel-25-e-4/
LOCATION:Studio Freitänzer am Harras\, Euckenstr. 15\, München\, Bayern\, 81369\, Deutschland
CATEGORIES:Kuscheln,Move & Feel,Tanzen
ATTACH;FMTTYPE=image/jpeg:https://sinnenfeuer.de/wp-content/uploads/2022/12/IMG_E6274-scaled-e1744981254979.jpg
END:VEVENT
BEGIN:VEVENT
DTSTART;TZID=Europe/Berlin:20251009T190000
DTEND;TZID=Europe/Berlin:20251009T220000
DTSTAMP:20260425T162313
CREATED:20250823T101647Z
LAST-MODIFIED:20250823T101647Z
UID:7717-1760036400-1760047200@sinnenfeuer.de
SUMMARY:Herzensraum - Space in Love | Do. 19 - 22h
DESCRIPTION:Tantrischer Abend fürs Feingefühl und zum Kennenlernen\nGenieße einen liebevoll geführten Tanz- und Begegnungsabend mit Herz öffnenden und feinfühlig berührenden Begegnungen im Tempelraum Milbertshofen. \nBitte lasse Dich bei der Anmeldung nicht irritieren\, dass Du eine Bestätigung für den 07.08.2025 bekommst. Es ist die Bestätigung für den 28.08.2025 \nIn der Begrüßungs- und Meditationsrunde öffnen wir ein Feld der liebevollen Achtsamkeit und feinfühligen Wahrnehmung mit Dir selbst und in der Sinnenfeuer Gemeinschaft des Abends. Tänzerisch befreien wir uns vom Alltag und finden in einer sanften Musik in unser Zentrum\, begegnen Shiva und Shakti in uns selbst. Angezogen von den schönen\, feinfühligen Atmosphäre erlebe den Spirit der erweiterten Wahrnehmung in den Begegnungen im Tanz. \nWir öffnen die Schwingung der Begegnung der Herzen und sind in einer Zweierbegegnung Deiner Wahl. Spirituell und Feinfühlig kannst Du hier achtsam die Energie die sich öffnet wahrnehmen\, sanft in Dir ankommen und in Dir liebevoll nachwirken lassen. \nWir empfehlen bequeme Tanzkleidung anzuziehen\, die sich auch gut anfühlt und aussieht. Bitte nehme auch ein 2. Shirt mit\, falls Du beim Tanzen ins schwitzen kommst. \nEs ist ein liebevoll\, Herz erfüllender Raum und achtsam die Lebendigkeit erleben\, die uns leicht im Alltag durch viele Verpflichtungen und PC-Arbeit abhanden kommt. Dein eigenes Energiefeld wird gestärkt im Feld lieber Menschen. \nWir laden dich ein\, mit uns zu experimentieren\, dein eigenes Wesen zu erforschen\, um noch selbstbewusster und in liebevoller Präsenz Deinen Weg weiter gehen zu können. \nWir freuen uns sehr\, wenn Du mit dabei bist. \nNamasté Saba \nHier gehts zur Anmeldung
URL:https://sinnenfeuer.de/event/herzensraum-space-in-love-do-19-22h/
LOCATION:Tempelraum Milbertshofen\, Bischof-Adalbert-Str. 23a\, Souterrain\, München\, Bayern\, 80809\, Deutschland
CATEGORIES:Achtsames Berühren,Kuscheln,Move & Feel,Tantra,Tantraabend,Tanzen
ATTACH;FMTTYPE=image/jpeg:https://sinnenfeuer.de/wp-content/uploads/2023/03/Fotolia_82380408_S.jpg
ORGANIZER;CN="Sinnenfeuer":MAILTO:mail@sinnenfeuer.de
END:VEVENT
END:VCALENDAR