BEGIN:VCALENDAR
VERSION:2.0
PRODID:-//Sinnenfeuer - ECPv6.15.20//NONSGML v1.0//EN
CALSCALE:GREGORIAN
METHOD:PUBLISH
X-ORIGINAL-URL:https://sinnenfeuer.de
X-WR-CALDESC:Veranstaltungen für Sinnenfeuer
REFRESH-INTERVAL;VALUE=DURATION:PT1H
X-Robots-Tag:noindex
X-PUBLISHED-TTL:PT1H
BEGIN:VTIMEZONE
TZID:Europe/Berlin
BEGIN:DAYLIGHT
TZOFFSETFROM:+0100
TZOFFSETTO:+0200
TZNAME:CEST
DTSTART:20250330T010000
END:DAYLIGHT
BEGIN:STANDARD
TZOFFSETFROM:+0200
TZOFFSETTO:+0100
TZNAME:CET
DTSTART:20251026T010000
END:STANDARD
BEGIN:DAYLIGHT
TZOFFSETFROM:+0100
TZOFFSETTO:+0200
TZNAME:CEST
DTSTART:20260329T010000
END:DAYLIGHT
BEGIN:STANDARD
TZOFFSETFROM:+0200
TZOFFSETTO:+0100
TZNAME:CET
DTSTART:20261025T010000
END:STANDARD
BEGIN:DAYLIGHT
TZOFFSETFROM:+0100
TZOFFSETTO:+0200
TZNAME:CEST
DTSTART:20270328T010000
END:DAYLIGHT
BEGIN:STANDARD
TZOFFSETFROM:+0200
TZOFFSETTO:+0100
TZNAME:CET
DTSTART:20271031T010000
END:STANDARD
END:VTIMEZONE
BEGIN:VEVENT
DTSTART;TZID=Europe/Berlin:20260214T130000
DTEND;TZID=Europe/Berlin:20260214T210000
DTSTAMP:20260423T003331
CREATED:20251210T221411Z
LAST-MODIFIED:20260129T204721Z
UID:7770-1771074000-1771102800@sinnenfeuer.de
SUMMARY:Öl Ritual | So. 13-21h
DESCRIPTION:Ölritual Intensivkurs | 13 h – 21 h | Einlass 12:30h\nDieser Samstag ist für alle\, die in eine sinnliche Reise eintauchen und das gleiten im Öl am Boden mit lieben Menschen zusammen genießen mögen. Einfühlsam gestalte ich für Alle einen sinnlichen Raum in der Achtsamkeit und Präsenz die Basis für die Öffnung im Raum der Hingabe im gemeinsamen Ölbad der Nährboden für Vertrauen ist. Lasse Dich ein und im Sein\, ohne zu tun\, der Atem führt Dich und Deine Bewegungen folgen langsam und genüsslich Deiner Wahrnehmung.\nDies ist eine wunderbare Erfahrung\, in der Du den Alltag abstreifst wie ein zu enges Korsett und dann wieder in ganz neuer und gelöster Weise Deine Erneuerung erfährst. \nIch freue mich sehr auf diesen liebevoll von mir geführten Samstag! \nDa das Ritual aufzubauen sehr aufwendig ist\, Du auch mit gutem Essen umsorgt wirst\, bitte ich Dich um einen Beitrag von 160 € oder nach Einschätzung eigener Möglichkeiten. \nHier gehts zur Anmeldung
URL:https://sinnenfeuer.de/event/oel-ritual-so-13-21h/
LOCATION:Tempelraum Milbertshofen\, Bischof-Adalbert-Str. 23a\, Souterrain\, München\, Bayern\, 80809\, Deutschland
CATEGORIES:Achtsames Berühren,Massageaustausch,Tantra
ATTACH;FMTTYPE=image/jpeg:https://sinnenfeuer.de/wp-content/uploads/2022/12/DSC_0230-scaled-e1678956043121.jpg
ORGANIZER;CN="Sinnenfeuer":MAILTO:mail@sinnenfeuer.de
END:VEVENT
END:VCALENDAR