BEGIN:VCALENDAR
VERSION:2.0
PRODID:-//Sinnenfeuer - ECPv6.15.20//NONSGML v1.0//EN
CALSCALE:GREGORIAN
METHOD:PUBLISH
X-WR-CALNAME:Sinnenfeuer
X-ORIGINAL-URL:https://sinnenfeuer.de
X-WR-CALDESC:Veranstaltungen für Sinnenfeuer
REFRESH-INTERVAL;VALUE=DURATION:PT1H
X-Robots-Tag:noindex
X-PUBLISHED-TTL:PT1H
BEGIN:VTIMEZONE
TZID:Europe/Berlin
BEGIN:DAYLIGHT
TZOFFSETFROM:+0100
TZOFFSETTO:+0200
TZNAME:CEST
DTSTART:20240331T010000
END:DAYLIGHT
BEGIN:STANDARD
TZOFFSETFROM:+0200
TZOFFSETTO:+0100
TZNAME:CET
DTSTART:20241027T010000
END:STANDARD
BEGIN:DAYLIGHT
TZOFFSETFROM:+0100
TZOFFSETTO:+0200
TZNAME:CEST
DTSTART:20250330T010000
END:DAYLIGHT
BEGIN:STANDARD
TZOFFSETFROM:+0200
TZOFFSETTO:+0100
TZNAME:CET
DTSTART:20251026T010000
END:STANDARD
BEGIN:DAYLIGHT
TZOFFSETFROM:+0100
TZOFFSETTO:+0200
TZNAME:CEST
DTSTART:20260329T010000
END:DAYLIGHT
BEGIN:STANDARD
TZOFFSETFROM:+0200
TZOFFSETTO:+0100
TZNAME:CET
DTSTART:20261025T010000
END:STANDARD
END:VTIMEZONE
BEGIN:VEVENT
DTSTART;TZID=Europe/Berlin:20251214T110000
DTEND;TZID=Europe/Berlin:20251214T130000
DTSTAMP:20260423T041839
CREATED:20251106T110239Z
LAST-MODIFIED:20251106T110239Z
UID:7761-1765710000-1765717200@sinnenfeuer.de
SUMMARY:Matinee - Move & Feel im Kulturhaus Milbertshofen
DESCRIPTION:Es ist schön\, sich am Sonntag Vormittag den Tag mit tänzerischem Schwung zu genießen\, Neuen und bekannten Menschen zu begegnen und dabei feinfühliges und experimentelles zu erforschen. Wir möchten Dich zu einem besonderen Vormittag bei beschwingter und auch klassischer Musik einladen und nach Herzenslust den Saal gemeinsam mit uns in Schwung zu bringen. Wir freuen uns auf Dich und alle\, die uns bei diesem Experiment unterstützen wollen!\n\nDer große Saal im Kulturhaus Milbertshofen bietet viel Raum und ich möchte in diesem Stadtteil Leben reinbringen. Für die 2. So. im Monat 14.12. von 11-13h findet es hier auf Spendenbasis statt.\nDer Raum wird uns gestellt und wir können die tolle Anlage und Räumlichkeit genießen. Bringt gerne Freunde und bekannte mit. Alle sind willkommen mit uns dieses Projekt zu starten. \nDas Kulturhaus Milbertshofen bietet viel Begegnungs- und Bewegungsraum und ich würde mich freuen\, in meinem Stadtteil auch meine Art von Leben und Spirit reinbringen. Es ist Nah der U2 Haltestelle  Milbertshofen + 5 Min. zu Fuß.\nFür März / April 2026 plane ich hier eine große Ausstellung mit ca. 25 Leinwänden.\nDer Saal hat eine tolle Anlage und viel Platz. Ich Räumlichkeit nutzen. \nCome\, Move and Feel. \nWir freuen uns auf Dich\nSaba und Rainer \nHier gehts zur Anmeldung
URL:https://sinnenfeuer.de/event/matinee-move-feel-im-kulturhaus-milbertshofen-2/
LOCATION:Kulturhaus Milbertshofen\, Curt-Mezger-Platz 1\, München\, Bayern\, 80809\, Germany
CATEGORIES:Move & Feel,Tanzen
ATTACH;FMTTYPE=image/jpeg:https://sinnenfeuer.de/wp-content/uploads/2025/01/Herztanz-scaled-e1736977990773.jpg
ORGANIZER;CN="Sinnenfeuer":MAILTO:mail@sinnenfeuer.de
END:VEVENT
END:VCALENDAR