BEGIN:VCALENDAR
VERSION:2.0
PRODID:-//Sinnenfeuer - ECPv6.15.20//NONSGML v1.0//EN
CALSCALE:GREGORIAN
METHOD:PUBLISH
X-ORIGINAL-URL:https://sinnenfeuer.de
X-WR-CALDESC:Veranstaltungen für Sinnenfeuer
REFRESH-INTERVAL;VALUE=DURATION:PT1H
X-Robots-Tag:noindex
X-PUBLISHED-TTL:PT1H
BEGIN:VTIMEZONE
TZID:Europe/Berlin
BEGIN:DAYLIGHT
TZOFFSETFROM:+0100
TZOFFSETTO:+0200
TZNAME:CEST
DTSTART:20240331T010000
END:DAYLIGHT
BEGIN:STANDARD
TZOFFSETFROM:+0200
TZOFFSETTO:+0100
TZNAME:CET
DTSTART:20241027T010000
END:STANDARD
BEGIN:DAYLIGHT
TZOFFSETFROM:+0100
TZOFFSETTO:+0200
TZNAME:CEST
DTSTART:20250330T010000
END:DAYLIGHT
BEGIN:STANDARD
TZOFFSETFROM:+0200
TZOFFSETTO:+0100
TZNAME:CET
DTSTART:20251026T010000
END:STANDARD
BEGIN:DAYLIGHT
TZOFFSETFROM:+0100
TZOFFSETTO:+0200
TZNAME:CEST
DTSTART:20260329T010000
END:DAYLIGHT
BEGIN:STANDARD
TZOFFSETFROM:+0200
TZOFFSETTO:+0100
TZNAME:CET
DTSTART:20261025T010000
END:STANDARD
END:VTIMEZONE
BEGIN:VEVENT
DTSTART;TZID=Europe/Berlin:20250511T000000
DTEND;TZID=Europe/Berlin:20250511T000000
DTSTAMP:20260425T123525
CREATED:20230910T072718Z
LAST-MODIFIED:20250508T095816Z
UID:6624-1746921600-1746921600@sinnenfeuer.de
SUMMARY:Move & Feel fällt am So 11.05. leider aus!
DESCRIPTION:Wenn Du sinnliche Nähe mit spiritueller Tiefe im Tanz und in Begegnungen erleben möchtest\, dann ist dieser Abend das Richtige für Dich. Come\, Move and Feel.\nLass dich tragen von der herzlichen\, spielerischen Sinnenfeuer-Atmosphäre\, in der sich spirituelle Tiefe mit fröhlich-unschuldiger Sinnlichkeit verbindet.\nLass dich bewegen\, lass Dich mitreißen von Move & Feel\, lerne Dich und andere neu kennen.
URL:https://sinnenfeuer.de/event/move-feel-25-e-3/
LOCATION:Studio Freitänzer am Harras\, Euckenstr. 15\, München\, Bayern\, 81369\, Deutschland
CATEGORIES:Kuscheln,Move & Feel,Tanzen
ATTACH;FMTTYPE=image/jpeg:https://sinnenfeuer.de/wp-content/uploads/2022/12/WhatsApp-Image-2022-12-16-at-10.28.32-1-e1671194147232.jpeg
END:VEVENT
END:VCALENDAR